BEGIN:VCALENDAR
VERSION:2.0
PRODID:-//Uns Dörphus Görmin - ECPv6.15.12//NONSGML v1.0//EN
CALSCALE:GREGORIAN
METHOD:PUBLISH
X-ORIGINAL-URL:https://www.uns-doerphus-goermin.de
X-WR-CALDESC:Veranstaltungen für Uns Dörphus Görmin
REFRESH-INTERVAL;VALUE=DURATION:PT1H
X-Robots-Tag:noindex
X-PUBLISHED-TTL:PT1H
BEGIN:VTIMEZONE
TZID:Europe/Berlin
BEGIN:DAYLIGHT
TZOFFSETFROM:+0100
TZOFFSETTO:+0200
TZNAME:CEST
DTSTART:20250330T010000
END:DAYLIGHT
BEGIN:STANDARD
TZOFFSETFROM:+0200
TZOFFSETTO:+0100
TZNAME:CET
DTSTART:20251026T010000
END:STANDARD
BEGIN:DAYLIGHT
TZOFFSETFROM:+0100
TZOFFSETTO:+0200
TZNAME:CEST
DTSTART:20260329T010000
END:DAYLIGHT
BEGIN:STANDARD
TZOFFSETFROM:+0200
TZOFFSETTO:+0100
TZNAME:CET
DTSTART:20261025T010000
END:STANDARD
BEGIN:DAYLIGHT
TZOFFSETFROM:+0100
TZOFFSETTO:+0200
TZNAME:CEST
DTSTART:20270328T010000
END:DAYLIGHT
BEGIN:STANDARD
TZOFFSETFROM:+0200
TZOFFSETTO:+0100
TZNAME:CET
DTSTART:20271031T010000
END:STANDARD
END:VTIMEZONE
BEGIN:VEVENT
DTSTART;TZID=Europe/Berlin:20260308T100000
DTEND;TZID=Europe/Berlin:20260308T130000
DTSTAMP:20260423T093233
CREATED:20251008T132809Z
LAST-MODIFIED:20251008T132809Z
UID:252-1772964000-1772974800@www.uns-doerphus-goermin.de
SUMMARY:Frauentagsfrühstück
DESCRIPTION:Am 8. März 2026 laden wir herzlich alle Frauen zu einem gemütlichen Frauentagsfrühstück im „Dörphus“ Görmin ein.Bei duftendem Kaffee\, frischen Brötchen und netten Gesprächen möchten wir gemeinsam den Vormittag genießen\, uns austauschen und einfach eine schöne Zeit miteinander verbringen. \nWir freuen uns auf ein herzliches Beisammensein voller Lachen\, guter Laune und inspirierender Begegnungen!
URL:https://www.uns-doerphus-goermin.de/veranstaltung/frauentagsfruehstueck/
LOCATION:Uns Dörphus Görmin\, Max-Köster-Straße 4\, Görmin\, 17121\, Germany
CATEGORIES:Allgemeine Veranstaltung
ATTACH;FMTTYPE=image/png:https://www.uns-doerphus-goermin.de/wp-content/uploads/2025/10/frauentagsfruehstueck.png
END:VEVENT
END:VCALENDAR